BEGIN:VCALENDAR
VERSION:2.0
PRODID:-//CEPD&#039;OC - ECPv6.15.20//NONSGML v1.0//EN
CALSCALE:GREGORIAN
METHOD:PUBLISH
X-ORIGINAL-URL:https://new.cepd-oc.fr
X-WR-CALDESC:Évènements pour CEPD&#039;OC
REFRESH-INTERVAL;VALUE=DURATION:PT1H
X-Robots-Tag:noindex
X-PUBLISHED-TTL:PT1H
BEGIN:VTIMEZONE
TZID:UTC
BEGIN:STANDARD
TZOFFSETFROM:+0000
TZOFFSETTO:+0000
TZNAME:UTC
DTSTART:20250101T000000
END:STANDARD
END:VTIMEZONE
BEGIN:VEVENT
DTSTART;TZID=UTC:20260306T180000
DTEND;TZID=UTC:20260306T200000
DTSTAMP:20260421T182555
CREATED:20260217T054743Z
LAST-MODIFIED:20260217T054743Z
UID:17253-1772820000-1772827200@new.cepd-oc.fr
SUMMARY:CONCERT «ES LO TEMPS»
DESCRIPTION:Le Maire d’Aix-en-Provence\net\nle Conseil Municipal\nHervé GUERRERA\nPrésident de l’association Ostau de Provença-Oustau de Prouvènço \nJean-Marie RAMIER\nPrésident de l’association Cep d’Oc \nMichel ARNAUD\nPrésident de l’association Creo Provence \nvous prient de bien vouloir assister au \nCONCERT «ES LO TEMPS» \nGilles Vigneault en occitan \nAvec Miquèu Montanaro\, Liette Remon\, Nadia Delisle\, Pierre Langevin \nLE VENDREDI 6 MARS 2026  \nÀ 18 HEURES  \nOustau de Prouvènço \n8 bis avenue Jules Ferry \nParc Jourdan \n13100 Aix-en-Provence \nEntrée libre dans la limite des places disponibles. \nEn cas d’intempérie et de fermeture des parcs de la Ville\,  \nla manifestation pourra être annulée.
URL:https://new.cepd-oc.fr/evenement/concert-es-lo-temps
LOCATION:Aix-en-Provence – Oustau de Prouvènço\, 8 bis avenue Jules Ferry\, Aix En Provence\, France
END:VEVENT
BEGIN:VEVENT
DTSTART;TZID=UTC:20260307T103000
DTEND;TZID=UTC:20260307T190000
DTSTAMP:20260421T182555
CREATED:20260217T151752Z
LAST-MODIFIED:20260217T151752Z
UID:17256-1772879400-1772910000@new.cepd-oc.fr
SUMMARY:Festival du tambourin
DESCRIPTION:
URL:https://new.cepd-oc.fr/evenement/festival-du-tambourin
LOCATION:Aix-en-Provence
END:VEVENT
BEGIN:VEVENT
DTSTART;TZID=UTC:20260308T143000
DTEND;TZID=UTC:20260308T170000
DTSTAMP:20260421T182555
CREATED:20260219T064615Z
LAST-MODIFIED:20260219T064620Z
UID:17263-1772980200-1772989200@new.cepd-oc.fr
SUMMARY:Cansoun de femo Mie-terrano\, Chansons de femmes de la Méditerranée
DESCRIPTION:  \nJ’ai le grand plaisir de vous annoncer le prochain concert de l’ensemble i’anen : \nDimanche 8 mars à 14h30\, \nCansoun de femo Mie-terrano\, Chansons de femmes de la Méditerranée \nSalle Georges Brassens à Bollène\, 2483 avenue Jean Moulin. \nEntrée libre. \nCe concert est organisé par l’association Parlaren a Bouleno dans le cadre de leur veillée provençale. L’après midi se poursuivra par une scène ouverte\, à laquelle nous participerons avec l’atelier vocal féminin de la Maison de Jeunes de Piolenc. Une tombola sera également tirée au cours de cette après-midi festive. \nAu plaisir de vous y retrouver ! \nMusicalement\, \nPascale Costantini pour l’ensemble i’anen \nVous pouvez retrouver cet évènement ainsi que toutes nos activités sur notre page Facebook en suivant ce lien : https://www.facebook.com/profile.php?id=100063494619767 \nAinsi que quelques vidéos et enregistrements sur notre chaîne Youtube en suivant ce lien : https://www.youtube.com/channel/UC-B7Z1F6jgosSTHThWmfH_A \nEnsemble i anen\n \n142 impasse du muraïe\n \n84420 PIOLENC \nensembleianen@gmail.com \n 
URL:https://new.cepd-oc.fr/evenement/cansoun-de-femo-mie-terrano-chansons-de-femmes-de-la-mediterranee-2
LOCATION:Bollène  – Salle Georges Brassens\, 2483 avenue Jean Moulin
END:VEVENT
BEGIN:VEVENT
DTSTART;TZID=UTC:20260315T173000
DTEND;TZID=UTC:20260315T190000
DTSTAMP:20260421T182555
CREATED:20260226T173324Z
LAST-MODIFIED:20260226T173330Z
UID:17271-1773595800-1773601200@new.cepd-oc.fr
SUMMARY:Le bois des Rièges entre mythe et réalité
DESCRIPTION:
URL:https://new.cepd-oc.fr/evenement/le-bois-des-rieges-entre-mythe-et-realite
LOCATION:Musée départemental Arles Antique
END:VEVENT
BEGIN:VEVENT
DTSTART;TZID=UTC:20260321T150000
DTEND;TZID=UTC:20260321T170000
DTSTAMP:20260421T182555
CREATED:20260225T065804Z
LAST-MODIFIED:20260225T065808Z
UID:17268-1774105200-1774112400@new.cepd-oc.fr
SUMMARY:Les belles endormies - Elisabeth Dode
DESCRIPTION:
URL:https://new.cepd-oc.fr/evenement/les-belles-endormies-elisabeth-dode
LOCATION:Aix-en-Provence – Oustau de Prouvènço\, 8 bis avenue Jules Ferry\, Aix En Provence\, France
END:VEVENT
END:VCALENDAR