BEGIN:VCALENDAR
VERSION:2.0
PRODID:-//CEPD&#039;OC - ECPv6.15.20//NONSGML v1.0//EN
CALSCALE:GREGORIAN
METHOD:PUBLISH
X-ORIGINAL-URL:https://new.cepd-oc.fr
X-WR-CALDESC:Évènements pour CEPD&#039;OC
REFRESH-INTERVAL;VALUE=DURATION:PT1H
X-Robots-Tag:noindex
X-PUBLISHED-TTL:PT1H
BEGIN:VTIMEZONE
TZID:UTC
BEGIN:STANDARD
TZOFFSETFROM:+0000
TZOFFSETTO:+0000
TZNAME:UTC
DTSTART:20250101T000000
END:STANDARD
END:VTIMEZONE
BEGIN:VEVENT
DTSTART;TZID=UTC:20260207T173000
DTEND;TZID=UTC:20260207T190000
DTSTAMP:20260423T085656
CREATED:20260117T071200Z
LAST-MODIFIED:20260117T071200Z
UID:17203-1770485400-1770490800@new.cepd-oc.fr
SUMMARY:Balèti de la Chandeleur
DESCRIPTION:La tradition veut qu’en Provence le temps de Noël dure 40 jours\, du jour de Noël à la Chandeleur. \n \nFidèle à cet héritage\, l’association Lei Farandoulaire Sestian célèbre la fin des fêtes calendales en musique et en danse\, à l’occasion de son \n \nBalèti de la Chandeleur\n \n le samedi 7 février 2026.\n\n \n à la salle des fêtes de Puyricard (Aix-en-Provence)\n \n\nà partir de 17h30.\n \n\n \n\n\nSymbole de partage\, de transmission et de joie collective\, ce bal traditionnel invite le public à se retrouver autour des danses et musiques\, dans un esprit convivial et intergénérationnel.\nComme le rappelle le dicton :\n« Rosée à la Chandeleur\, hiver à sa dernière heure »\nUne belle promesse de renouveau\, et une excellente raison de se rassembler autour des crêpes et d’un balèti festif.\n\n\n \n\n \n\n\nRenseignements :\n\nLei Farandoulaire Sestian\n\nContact : 06 52 03 03 69\n\nfarandoulaire@wanadoo.fr\n\nwww.farandoulaire-sestian.fr
URL:https://new.cepd-oc.fr/evenement/baleti-de-la-chandeleur
LOCATION:Puyricard – Salle des fêtes
END:VEVENT
BEGIN:VEVENT
DTSTART;TZID=UTC:20260215T150000
DTEND;TZID=UTC:20260215T170000
DTSTAMP:20260423T085656
CREATED:20260203T141603Z
LAST-MODIFIED:20260203T141603Z
UID:17248-1771167600-1771174800@new.cepd-oc.fr
SUMMARY:Cansoun de femo Mie-terrano\, Chansons de femmes de la Méditerranée
DESCRIPTION:Libre participation aux frais. \nLa salle Paul Marquion se trouve dans le centre de Caderousse\, à coté de la mairie. \nCe concert est organisé par l’association Parlaren Cadarousso à l’issue de son assemblée générale\, dans le cadre du 50ème festival provençal. \nInterprété à cappella\, accompagné parfois de quelques percussions\, ce programme\, puisé dans le répertoire traditionnel\, décrit différents aspects de la vie des femmes : amours heureuses et malheureuses\, maternité\, chansons de travail… Faisant la part belle à la langue provençale\, il comporte également des chansons italiennes\, espagnoles et grecques. Grâce aux présentations imagées et aux traductions\, les textes sont compréhensibles par tous. Le jeu scénique entre les chanteuses rend le spectacle attrayant et accessible à tout public. \nAu plaisir de vous y retrouver ! \nMusicalement\, \nPascale Costantini pour l’ensemble i’anen \n06 42 53 27 95 \nVous pouvez retrouver cet évènement ainsi que toutes nos activités sur notre page Facebook en suivant ce lien : https://www.facebook.com/profile.php?id=100063494619767 \nAinsi que quelques vidéos et enregistrements sur notre chaîne Youtube en suivant ce lien : https://www.youtube.com/channel/UC-B7Z1F6jgosSTHThWmfH_A \n\n\n\n\n\n\n\n\nEnsemble i’anen\n\n142 impasse du muraïe\n\n84420 PIOLENC\nensembleianen@gmail.com
URL:https://new.cepd-oc.fr/evenement/cansoun-de-femo-mie-terrano-chansons-de-femmes-de-la-mediterranee
LOCATION:Salle Paul Marquion à Caderousse
END:VEVENT
END:VCALENDAR