BEGIN:VCALENDAR
VERSION:2.0
PRODID:-//CEPD&#039;OC - ECPv6.15.20//NONSGML v1.0//EN
CALSCALE:GREGORIAN
METHOD:PUBLISH
X-WR-CALNAME:CEPD&#039;OC
X-ORIGINAL-URL:https://new.cepd-oc.fr
X-WR-CALDESC:Évènements pour CEPD&#039;OC
REFRESH-INTERVAL;VALUE=DURATION:PT1H
X-Robots-Tag:noindex
X-PUBLISHED-TTL:PT1H
BEGIN:VTIMEZONE
TZID:UTC
BEGIN:STANDARD
TZOFFSETFROM:+0000
TZOFFSETTO:+0000
TZNAME:UTC
DTSTART:20240101T000000
END:STANDARD
END:VTIMEZONE
BEGIN:VEVENT
DTSTART;TZID=UTC:20251011T180000
DTEND;TZID=UTC:20251011T200000
DTSTAMP:20260425T114652
CREATED:20250908T042116Z
LAST-MODIFIED:20250908T042309Z
UID:16969-1760205600-1760212800@new.cepd-oc.fr
SUMMARY:Cezanne\, poésies\, mélodies
DESCRIPTION:Une plongée dans l’univers artistique aixois autour de Cezanne \nUne proposition du Musée Granet et du Musée du Vieil Aix
URL:https://new.cepd-oc.fr/evenement/cezanne-poesies-melodies-2
LOCATION:Aix en Provence – La Manufacture\, 8/10 rue des Allumettes\, Aix-En-Provence
END:VEVENT
END:VCALENDAR