BEGIN:VCALENDAR
VERSION:2.0
PRODID:-//CEPD&#039;OC - ECPv6.15.20//NONSGML v1.0//EN
CALSCALE:GREGORIAN
METHOD:PUBLISH
X-WR-CALNAME:CEPD&#039;OC
X-ORIGINAL-URL:https://new.cepd-oc.fr
X-WR-CALDESC:Évènements pour CEPD&#039;OC
REFRESH-INTERVAL;VALUE=DURATION:PT1H
X-Robots-Tag:noindex
X-PUBLISHED-TTL:PT1H
BEGIN:VTIMEZONE
TZID:UTC
BEGIN:STANDARD
TZOFFSETFROM:+0000
TZOFFSETTO:+0000
TZNAME:UTC
DTSTART:20250101T000000
END:STANDARD
END:VTIMEZONE
BEGIN:VEVENT
DTSTART;TZID=UTC:20260315T173000
DTEND;TZID=UTC:20260315T190000
DTSTAMP:20260423T084520
CREATED:20260226T173324Z
LAST-MODIFIED:20260226T173330Z
UID:17271-1773595800-1773601200@new.cepd-oc.fr
SUMMARY:Le bois des Rièges entre mythe et réalité
DESCRIPTION:
URL:https://new.cepd-oc.fr/evenement/le-bois-des-rieges-entre-mythe-et-realite
LOCATION:Musée départemental Arles Antique
END:VEVENT
END:VCALENDAR