BEGIN:VCALENDAR
VERSION:2.0
PRODID:-//CEPD&#039;OC - ECPv6.15.20//NONSGML v1.0//EN
CALSCALE:GREGORIAN
METHOD:PUBLISH
X-ORIGINAL-URL:https://new.cepd-oc.fr
X-WR-CALDESC:Évènements pour CEPD&#039;OC
REFRESH-INTERVAL;VALUE=DURATION:PT1H
X-Robots-Tag:noindex
X-PUBLISHED-TTL:PT1H
BEGIN:VTIMEZONE
TZID:UTC
BEGIN:STANDARD
TZOFFSETFROM:+0000
TZOFFSETTO:+0000
TZNAME:UTC
DTSTART:20250101T000000
END:STANDARD
END:VTIMEZONE
BEGIN:VEVENT
DTSTART;TZID=UTC:20260125T160000
DTEND;TZID=UTC:20260125T180000
DTSTAMP:20260423T120838
CREATED:20251220T120003Z
LAST-MODIFIED:20251220T120003Z
UID:17150-1769356800-1769364000@new.cepd-oc.fr
SUMMARY:La Pastorale Maurel - Cucuron
DESCRIPTION:L’association La Vida en Oc à Cucuron propose un spectacle tout en provençal ! Les meilleurs moments de la Pastorale Maurel joués par les habitants.\n4 représentations\, salle de l’Eden :\nSamedi 10 janvier à 20h30\nDimanche 11 janvier à 16h00 \nSamedi 24 janvier à 20h30\nDimanche 25 janvier à 16h00 \nEntrée gratuite\, contribution libre
URL:https://new.cepd-oc.fr/evenement/la-pastorale-maurel-cucuron-4
LOCATION:Cucuron – Salle de l’Eden
END:VEVENT
END:VCALENDAR