BEGIN:VCALENDAR
VERSION:2.0
PRODID:-//CEPD&#039;OC - ECPv6.15.20//NONSGML v1.0//EN
CALSCALE:GREGORIAN
METHOD:PUBLISH
X-ORIGINAL-URL:https://new.cepd-oc.fr
X-WR-CALDESC:Évènements pour CEPD&#039;OC
REFRESH-INTERVAL;VALUE=DURATION:PT1H
X-Robots-Tag:noindex
X-PUBLISHED-TTL:PT1H
BEGIN:VTIMEZONE
TZID:UTC
BEGIN:STANDARD
TZOFFSETFROM:+0000
TZOFFSETTO:+0000
TZNAME:UTC
DTSTART:20240101T000000
END:STANDARD
END:VTIMEZONE
BEGIN:VEVENT
DTSTART;TZID=UTC:20251221T140000
DTEND;TZID=UTC:20251221T170000
DTSTAMP:20260423T135343
CREATED:20251117T084736Z
LAST-MODIFIED:20251117T084736Z
UID:17042-1766325600-1766336400@new.cepd-oc.fr
SUMMARY:Le murmure du Pastre
DESCRIPTION:L’association d’Arts et Traditions Populaires LO TERRALHET\,\n \na le plaisir de vous inviter à une des représentations du spectacle de Noël \nLe murmure du Pastre\n \nQue font nos petits santons enfermés dans leur boîte en carton ?\nPersonne ne s’est posé la question. \nLorsqu’ils en sortent\, pimpants\, guillerets dans leurs beaux atours colorés ils auraient beaucoup de choses à nous dire\, mais personne ne sait les écouter et on ne les entend jamais.\nPourtant\, quand la nuit de Noël ils se regroupent dans la crèche autour d’un feu qu’ils ont allumé et qu’ils écoutent le récit du berger …  il suffit de l’impatience d’un enfant qui attend le père Noël pour découvrir leur secret.\nUne évocation des traditions du Noël provençal pour un Noël d’aujourd’hui humaniste\, solidaire et fraternel.\n Ce spectacle de contes\, chants et musiques de Provence est bilingue – provençal/français et reste compréhensible par tous.\n Nous serions très heureux de vous y accueillir.
URL:https://new.cepd-oc.fr/evenement/le-murmure-du-pastre-6
LOCATION:Flassans sur Issole – Salle Bernard Gavaty
END:VEVENT
BEGIN:VEVENT
DTSTART;TZID=UTC:20251221T170000
DTEND;TZID=UTC:20251221T190000
DTSTAMP:20260423T135343
CREATED:20251117T082224Z
LAST-MODIFIED:20251117T082224Z
UID:17025-1766336400-1766343600@new.cepd-oc.fr
SUMMARY:Concerts de Noël de Cor D Lus Polyphonies d'Oc !
DESCRIPTION:Comme chaque année\, nous chanterons\, en provençal\, ce qui fait l’originalité de l’esprit de Noël dans notre région\, avec des chants traditionnels et des créations personnelles.\nLes arrangements de Vincent Cladère (chef de choeur\, conservatoire de la Tour d’Aigues) et de Philippe Franceschi (chef de choeur\, conservatoire de Digne-Manosque\, Festival d’Aix\, AMU)\nnous plongeront tour à tour dans des ambiances différentes: ou plus rythmées\, ou plus harmoniques.\nQuant à moi\, je conterai\, je raconterai… je ferai le mystérieux ! Tout en français mais l’incontournable sera dit en provençal. (traduit !)\nCe sera une fête qui rassemble !\nCette année\, il y sera même question de Cezanne !!!\nDonc\, nous nous amuserons ! En n’oubliant pas le message d’espoir de paix sur le monde.\n\nA Aix\, le samedi 20 décembre\, à 17h\, à l’église du Saint Esprit. Le concert est offert par le CEPd’OC\,  l’Oustau de Prouvènço d’Aix et les Affaires provençales de la Ville d’Aix.\nA Cavaillon\, le dimanche 21 décembre\, à 17h\, dans la magnifique cathédrale entièrement rénovée (après cinq ans de travaux !) et parée de ses chefs d’œuvres de la peinture du 17e siècle.
URL:https://new.cepd-oc.fr/evenement/concerts-de-noel-de-cor-d-lus-polyphonies-doc-2
LOCATION:Cavaillon – Cathédrale
END:VEVENT
END:VCALENDAR