BEGIN:VCALENDAR
VERSION:2.0
PRODID:-//CEPD&#039;OC - ECPv6.15.20//NONSGML v1.0//EN
CALSCALE:GREGORIAN
METHOD:PUBLISH
X-ORIGINAL-URL:https://new.cepd-oc.fr
X-WR-CALDESC:Évènements pour CEPD&#039;OC
REFRESH-INTERVAL;VALUE=DURATION:PT1H
X-Robots-Tag:noindex
X-PUBLISHED-TTL:PT1H
BEGIN:VTIMEZONE
TZID:UTC
BEGIN:STANDARD
TZOFFSETFROM:+0000
TZOFFSETTO:+0000
TZNAME:UTC
DTSTART:20240101T000000
END:STANDARD
END:VTIMEZONE
BEGIN:VEVENT
DTSTART;TZID=UTC:20251213T160000
DTEND;TZID=UTC:20251213T170000
DTSTAMP:20260423T135409
CREATED:20251117T084431Z
LAST-MODIFIED:20251117T085244Z
UID:17037-1765641600-1765645200@new.cepd-oc.fr
SUMMARY:Le murmure du Pastre
DESCRIPTION:L’association d’Arts et Traditions Populaires LO TERRALHET\,\n \na le plaisir de vous inviter à une des représentations du spectacle de Noël \nLe murmure du Pastre\n \nQue font nos petits santons enfermés dans leur boîte en carton ?\nPersonne ne s’est posé la question. \nLorsqu’ils en sortent\, pimpants\, guillerets dans leurs beaux atours colorés ils auraient beaucoup de choses à nous dire\, mais personne ne sait les écouter et on ne les entend jamais.\nPourtant\, quand la nuit de Noël ils se regroupent dans la crèche autour d’un feu qu’ils ont allumé et qu’ils écoutent le récit du berger …  il suffit de l’impatience d’un enfant qui attend le père Noël pour découvrir leur secret.\nUne évocation des traditions du Noël provençal pour un Noël d’aujourd’hui humaniste\, solidaire et fraternel.\n Ce spectacle de contes\, chants et musiques de Provence est bilingue – provençal/français et reste compréhensible par tous.\n Nous serions très heureux de vous y accueillir.
URL:https://new.cepd-oc.fr/evenement/le-murmure-du-pastre-4
LOCATION:Marseille – Cryptes de l’abbye de Saint Victor
END:VEVENT
END:VCALENDAR