BEGIN:VCALENDAR
VERSION:2.0
PRODID:-//CEPD&#039;OC - ECPv6.15.20//NONSGML v1.0//EN
CALSCALE:GREGORIAN
METHOD:PUBLISH
X-ORIGINAL-URL:https://new.cepd-oc.fr
X-WR-CALDESC:Évènements pour CEPD&#039;OC
REFRESH-INTERVAL;VALUE=DURATION:PT1H
X-Robots-Tag:noindex
X-PUBLISHED-TTL:PT1H
BEGIN:VTIMEZONE
TZID:UTC
BEGIN:STANDARD
TZOFFSETFROM:+0000
TZOFFSETTO:+0000
TZNAME:UTC
DTSTART:20240101T000000
END:STANDARD
END:VTIMEZONE
BEGIN:VEVENT
DTSTART;TZID=UTC:20251205T200000
DTEND;TZID=UTC:20251205T220000
DTSTAMP:20260423T135353
CREATED:20251031T070604Z
LAST-MODIFIED:20251117T085037Z
UID:17003-1764964800-1764972000@new.cepd-oc.fr
SUMMARY:Sortie du nouveau spectacle Pas[sagte] de TANT QUE LI SIAM
DESCRIPTION:Sortie du nouveau spectacle Pas[sagte] de TANT QUE LI SIAM \n\n(en résidence à la Cité de la Musique du 01 au 05 décembre) \n\n\n\n\n\n\n\n\n\n\n\n\n\n\nAvec Marie-Madeleine Martinet\, Aurélien Sausy\, Audrey Peinado\, Mario Leccia : chant et percussions\n \n👉 Teaser Sortie de résidence COMDT Toulouse pour prochaine création\n\nUne nouvelle création portée par Tant que li Siam – polyphonies du Ventoux – où résonnent leurs compositions musicales inspirées de la poésie d’auteurs contemporains et des siècles précédents\, des thèmes du répertoire traditionnel hérités du  patrimoine musical local et des poèmes écrits pour l’occasion afin de porter une parole qui leur soit propre.\n\nDans la Provence d’aujourd’hui\, bals traditionnels\, chœurs polyphoniques\, carnavals sauvages… expriment encore notre besoin de vivre ensemble\, de porter la voix\, de s’élever collectivement et de créer une poésie qui serait comme le dit le poète Gennadi Aïguï « le travail- langage de la fraternité humaine ».\nPas[sagte] met en lumière les pratiques collectives populaires qui existent encore aujourd’hui : fêtes et célébrations diverses plus ou moins païennes liées au cycle des saisons\, à la course du soleil\, comme le furent par exemple les fêtes de la nativité\, nées des rites du solstice et absorbées ensuite par la société de consommation. \n\n\n \n\nRéservez votre place pro auprès d’Emilie au 06 81 63 46 04 ou diff.taxipantai@gmail.com
URL:https://new.cepd-oc.fr/evenement/17003
LOCATION:Marseille – Cité de la Musique
END:VEVENT
END:VCALENDAR