BEGIN:VCALENDAR
VERSION:2.0
PRODID:-//CEPD&#039;OC - ECPv6.15.20//NONSGML v1.0//EN
CALSCALE:GREGORIAN
METHOD:PUBLISH
X-WR-CALNAME:CEPD&#039;OC
X-ORIGINAL-URL:https://new.cepd-oc.fr
X-WR-CALDESC:Évènements pour CEPD&#039;OC
REFRESH-INTERVAL;VALUE=DURATION:PT1H
X-Robots-Tag:noindex
X-PUBLISHED-TTL:PT1H
BEGIN:VTIMEZONE
TZID:UTC
BEGIN:STANDARD
TZOFFSETFROM:+0000
TZOFFSETTO:+0000
TZNAME:UTC
DTSTART:20240101T000000
END:STANDARD
END:VTIMEZONE
BEGIN:VEVENT
DTSTART;TZID=UTC:20251115T080000
DTEND;TZID=UTC:20251116T170000
DTSTAMP:20260425T114519
CREATED:20251112T160453Z
LAST-MODIFIED:20251112T160453Z
UID:17013-1763193600-1763312400@new.cepd-oc.fr
SUMMARY:Foire aux santons - Martigues les 15 et 16 novembre 2025
DESCRIPTION:
URL:https://new.cepd-oc.fr/evenement/foire-aux-santons-martigues-les-15-et-16-novembre-2025
LOCATION:Martigues
END:VEVENT
END:VCALENDAR