BEGIN:VCALENDAR
VERSION:2.0
PRODID:-//CEPD&#039;OC - ECPv6.15.20//NONSGML v1.0//EN
CALSCALE:GREGORIAN
METHOD:PUBLISH
X-ORIGINAL-URL:http://new.cepd-oc.fr
X-WR-CALDESC:Évènements pour CEPD&#039;OC
REFRESH-INTERVAL;VALUE=DURATION:PT1H
X-Robots-Tag:noindex
X-PUBLISHED-TTL:PT1H
BEGIN:VTIMEZONE
TZID:Europe/Paris
BEGIN:DAYLIGHT
TZOFFSETFROM:+0100
TZOFFSETTO:+0200
TZNAME:CEST
DTSTART:20250330T010000
END:DAYLIGHT
BEGIN:STANDARD
TZOFFSETFROM:+0200
TZOFFSETTO:+0100
TZNAME:CET
DTSTART:20251026T010000
END:STANDARD
BEGIN:DAYLIGHT
TZOFFSETFROM:+0100
TZOFFSETTO:+0200
TZNAME:CEST
DTSTART:20260329T010000
END:DAYLIGHT
BEGIN:STANDARD
TZOFFSETFROM:+0200
TZOFFSETTO:+0100
TZNAME:CET
DTSTART:20261025T010000
END:STANDARD
BEGIN:DAYLIGHT
TZOFFSETFROM:+0100
TZOFFSETTO:+0200
TZNAME:CEST
DTSTART:20270328T010000
END:DAYLIGHT
BEGIN:STANDARD
TZOFFSETFROM:+0200
TZOFFSETTO:+0100
TZNAME:CET
DTSTART:20271031T010000
END:STANDARD
END:VTIMEZONE
BEGIN:VTIMEZONE
TZID:UTC
BEGIN:STANDARD
TZOFFSETFROM:+0000
TZOFFSETTO:+0000
TZNAME:UTC
DTSTART:20250101T000000
END:STANDARD
END:VTIMEZONE
BEGIN:VEVENT
DTSTART;TZID=Europe/Paris:20260410T150000
DTEND;TZID=Europe/Paris:20260410T170000
DTSTAMP:20260421T181902
CREATED:20260218T034906Z
LAST-MODIFIED:20260218T035139Z
UID:17259-1775833200-1775840400@new.cepd-oc.fr
SUMMARY:Centre Rupestre de Cultura Occitana Peïre Pessamessa - Inauguracion
DESCRIPTION:
URL:http://new.cepd-oc.fr/evenement/centre-rupestre-de-cultura-occitana-peire-pessamessa-inauguracion
LOCATION:Buous
END:VEVENT
BEGIN:VEVENT
DTSTART;TZID=UTC:20260410T180000
DTEND;TZID=UTC:20260410T210000
DTSTAMP:20260421T181902
CREATED:20260117T065327Z
LAST-MODIFIED:20260117T065327Z
UID:17200-1775844000-1775854800@new.cepd-oc.fr
SUMMARY:LIS ISCLO D'OR et  LA TARGO
DESCRIPTION:Les Ecoles Félibréennes  \nLIS ISCLO D’OR et  LA TARGO \norganisent des \nRESCONTRE POUËSÌO-MUSICO  \nbilingues \nle 10 avril à 18 heures \nà Toulon\, salle Mozart \nLe programme détaillé sera communiqué ultérieurement.
URL:http://new.cepd-oc.fr/evenement/lis-isclo-dor-et-la-targo
LOCATION:Toulon – Salle Mozart
END:VEVENT
END:VCALENDAR